BEGIN:VCALENDAR
VERSION:2.0
PRODID:-//Kundalini Yoga - ECPv6.15.18//NONSGML v1.0//EN
CALSCALE:GREGORIAN
METHOD:PUBLISH
X-ORIGINAL-URL:https://kundalini-yoga.co.uk
X-WR-CALDESC:Events for Kundalini Yoga
REFRESH-INTERVAL;VALUE=DURATION:PT1H
X-Robots-Tag:noindex
X-PUBLISHED-TTL:PT1H
BEGIN:VTIMEZONE
TZID:Europe/London
BEGIN:DAYLIGHT
TZOFFSETFROM:+0000
TZOFFSETTO:+0100
TZNAME:BST
DTSTART:20230326T010000
END:DAYLIGHT
BEGIN:STANDARD
TZOFFSETFROM:+0100
TZOFFSETTO:+0000
TZNAME:GMT
DTSTART:20231029T010000
END:STANDARD
BEGIN:DAYLIGHT
TZOFFSETFROM:+0000
TZOFFSETTO:+0100
TZNAME:BST
DTSTART:20240331T010000
END:DAYLIGHT
BEGIN:STANDARD
TZOFFSETFROM:+0100
TZOFFSETTO:+0000
TZNAME:GMT
DTSTART:20241027T010000
END:STANDARD
BEGIN:DAYLIGHT
TZOFFSETFROM:+0000
TZOFFSETTO:+0100
TZNAME:BST
DTSTART:20250330T010000
END:DAYLIGHT
BEGIN:STANDARD
TZOFFSETFROM:+0100
TZOFFSETTO:+0000
TZNAME:GMT
DTSTART:20251026T010000
END:STANDARD
END:VTIMEZONE
BEGIN:VEVENT
DTSTART;TZID=Europe/London:20241105T194000
DTEND;TZID=Europe/London:20241105T212000
DTSTAMP:20260426T024400
CREATED:20241025T162246Z
LAST-MODIFIED:20241025T163314Z
UID:105772-1730835600-1730841600@kundalini-yoga.co.uk
SUMMARY:Chakra Alignment & Rebalancing Program - The Root Chakra
DESCRIPTION:Are you looking for meaning in life – Do you feel something’s missing\, but don’t know what?\n\nWould you like to understand more about what makes you tick\, find your purpose\, awaken to your true divine nature?\n\nThen my Chakra alignment and re-balancing program might be for you.\n\nThese candlelight classes are a beautiful blend of meditation\, breathwork\, mudra\, mantra\, Hatha Yoga\, kriya and spiritual practices designed to nourish mind body and soul.  Join a wonderful group of like hearted souls all on a similar journey of self discovery.  You will be given the tools\, skills\, the knowledge\, the space\, the time and encouragement to work though one chakra at a time\, bringing full awareness into how it is operating in your life\, and how you can improve each area that your chakra represents.\n\nOur brand new term on the Root chakra starts Tuesday 5th November 7:40pm – Bracknell.  To apply for a place and find out more please visit: www.kundalini-yoga.co.uk.\n\n**Penny Pettman is a somatic therapist for trauma and spiritual awakening\, kundalini yoga teacher and sound/energy healer. Master classes on the Chakra system are held every Tuesday – we will be starting a new term on the Root Chakra in October. For more details please check the booking link or contact directly
URL:https://kundalini-yoga.co.uk/event/chakra-alignment-rebalancing-program-the-root-chakra/
LOCATION:St Michael’s Parish Hall\, Crowthorne Road\, Easthampstead\, Bracknell\, Berkshire\, RG12 7ER\, United Kingdom
CATEGORIES:Guided Meditation,Yoga
ATTACH;FMTTYPE=image/png:https://kundalini-yoga.co.uk/wp-content/uploads/2024/10/Chakra-Post.png
END:VEVENT
END:VCALENDAR