BEGIN:VCALENDAR
VERSION:2.0
PRODID:-//Kundalini Yoga - ECPv6.15.18//NONSGML v1.0//EN
CALSCALE:GREGORIAN
METHOD:PUBLISH
X-ORIGINAL-URL:https://kundalini-yoga.co.uk
X-WR-CALDESC:Events for Kundalini Yoga
REFRESH-INTERVAL;VALUE=DURATION:PT1H
X-Robots-Tag:noindex
X-PUBLISHED-TTL:PT1H
BEGIN:VTIMEZONE
TZID:Europe/London
BEGIN:DAYLIGHT
TZOFFSETFROM:+0000
TZOFFSETTO:+0100
TZNAME:BST
DTSTART:20230326T010000
END:DAYLIGHT
BEGIN:STANDARD
TZOFFSETFROM:+0100
TZOFFSETTO:+0000
TZNAME:GMT
DTSTART:20231029T010000
END:STANDARD
BEGIN:DAYLIGHT
TZOFFSETFROM:+0000
TZOFFSETTO:+0100
TZNAME:BST
DTSTART:20240331T010000
END:DAYLIGHT
BEGIN:STANDARD
TZOFFSETFROM:+0100
TZOFFSETTO:+0000
TZNAME:GMT
DTSTART:20241027T010000
END:STANDARD
BEGIN:DAYLIGHT
TZOFFSETFROM:+0000
TZOFFSETTO:+0100
TZNAME:BST
DTSTART:20250330T010000
END:DAYLIGHT
BEGIN:STANDARD
TZOFFSETFROM:+0100
TZOFFSETTO:+0000
TZNAME:GMT
DTSTART:20251026T010000
END:STANDARD
END:VTIMEZONE
BEGIN:VEVENT
DTSTART;TZID=Europe/London:20241215T190000
DTEND;TZID=Europe/London:20241215T213000
DTSTAMP:20260426T011555
CREATED:20241111T202128Z
LAST-MODIFIED:20241111T202254Z
UID:105803-1734289200-1734298200@kundalini-yoga.co.uk
SUMMARY:Full Moon & Winter Solstice Haven - A Mini Retreat to Soothe the Soul
DESCRIPTION:As the frenetic pace of the festive season draws close to its crescendo\, what could be better than snuggling up in a soothing magical haven of tranquilly. Under the magical light of the Gemini Full Moon (on that very night)\, you will get a chance to recharge your batteries with deep\, healing rest and a soulful\, nourishing sense of community to prepare for the holidays ahead. \nWelcome to the Christmas Soother\, and Winter Solstice Celebrations. \nThe Winter Solstice is a magical time of year; a time to celebrate reaching the longest night and a return of the light as the days finally start to get longer. \nIt is a wonderful time to rest and reflect on this last year\, giving gratitude to what has served us well\, and preparing us for what we want to bring into next year ahead. \nYour Mini Retreat will offer you a chance to set intentions and reflect with a few journal prompts to prepare you for the retreat\, along with a beautiful Cacao Blessing\, a Winter Solstice Guided Meditation\, a deeply healing Soundbath to recharge you\, and then time to connect around the fire pit together. \nThere will be mince pies\, and warming ginger or fresh mint tea. There will also be time to reflect and connect with your soundbath buddies along with oracle cards which are available should you wish to gain further insights from the year\, or your experience. \nI can’t wait to spend this precious and sacred date with you all <3 \nA minimum of 72 hours notice is required if you cannot attend. If less than 72 hours notice is given\, it will not be possible to exchange or refund\, however we will always try to help you find someone to replace you so that nobody loses out. You may sell your ticket on to another. \nSoundbaths are not advisable (unless with Doctors approval) for people with epilepsy\, a pace maker or in their first trimester of pregnancy.
URL:https://kundalini-yoga.co.uk/event/full-moon-winter-solstice-haven-a-mini-retreat-to-soothe-the-soul/
LOCATION:St Michael’s Parish Hall\, Crowthorne Road\, Easthampstead\, Bracknell\, Berkshire\, RG12 7ER\, United Kingdom
ATTACH;FMTTYPE=image/png:https://kundalini-yoga.co.uk/wp-content/uploads/2024/11/Xmas-Full-Moon-MR.png
END:VEVENT
END:VCALENDAR