BEGIN:VCALENDAR
VERSION:2.0
PRODID:-//Kundalini Yoga - ECPv6.15.18//NONSGML v1.0//EN
CALSCALE:GREGORIAN
METHOD:PUBLISH
X-WR-CALNAME:Kundalini Yoga
X-ORIGINAL-URL:https://kundalini-yoga.co.uk
X-WR-CALDESC:Events for Kundalini Yoga
REFRESH-INTERVAL;VALUE=DURATION:PT1H
X-Robots-Tag:noindex
X-PUBLISHED-TTL:PT1H
BEGIN:VTIMEZONE
TZID:UTC
BEGIN:STANDARD
TZOFFSETFROM:+0000
TZOFFSETTO:+0000
TZNAME:UTC
DTSTART:20200101T000000
END:STANDARD
END:VTIMEZONE
BEGIN:VTIMEZONE
TZID:Europe/London
BEGIN:DAYLIGHT
TZOFFSETFROM:+0000
TZOFFSETTO:+0100
TZNAME:BST
DTSTART:20210328T010000
END:DAYLIGHT
BEGIN:STANDARD
TZOFFSETFROM:+0100
TZOFFSETTO:+0000
TZNAME:GMT
DTSTART:20211031T010000
END:STANDARD
BEGIN:DAYLIGHT
TZOFFSETFROM:+0000
TZOFFSETTO:+0100
TZNAME:BST
DTSTART:20220327T010000
END:DAYLIGHT
BEGIN:STANDARD
TZOFFSETFROM:+0100
TZOFFSETTO:+0000
TZNAME:GMT
DTSTART:20221030T010000
END:STANDARD
BEGIN:DAYLIGHT
TZOFFSETFROM:+0000
TZOFFSETTO:+0100
TZNAME:BST
DTSTART:20230326T010000
END:DAYLIGHT
BEGIN:STANDARD
TZOFFSETFROM:+0100
TZOFFSETTO:+0000
TZNAME:GMT
DTSTART:20231029T010000
END:STANDARD
END:VTIMEZONE
BEGIN:VEVENT
DTSTART;TZID=UTC:20220213T190000
DTEND;TZID=UTC:20220213T213000
DTSTAMP:20260420T040052
CREATED:20211219T201242Z
LAST-MODIFIED:20220209T181501Z
UID:2860-1644778800-1644787800@kundalini-yoga.co.uk
SUMMARY:Celebration of Self-Love - An Evening of Bliss
DESCRIPTION:Come and join us on Sunday February 13th to celebrate Self-Love: Ceremonial Cacao (the medicine of love and bliss)\, journalling\, powerful and transformative breath-work\, Oracle cards\, and a glorious Sound Bath with heart-healing vibrations\, all awaits you 💓 \nSo what even is self-love (you might ask)…? \nWell for me\, self love is self acceptance; it is setting boundaries\, asking for what you need\, being honest and authentic\, not abandoning yourself when the going gets tough. It’s nurturing your inner child with play and creativity.. allowing yourself to feel sensual\, wild\, free; cultivating inner wisdom and listening to your heart. \nWithout a deep foundation of self-love\, we will continually find ourselves looking outwards for the happiness that can only be found within. If you find yourself comparing yourself to others\, feeling guilt\, shame\, and self-judgement then you’re not alone. It seems very few of us escape these feelings our society (and social media especially) has conditioned us to take on\, and it takes conscious awareness and practice to ‘unlearn’ these habits\, beliefs and judgements. \nIn this nurturing space of love and acceptance\, we will provide a sacred environment for you to explore ‘your’ feelings and beliefs about self love. With practices that allow for self-reflection\, opportunities to share with others (if you wish)\, and time to just ‘be’\, you will experience a deep relaxation of your soul that only being in ceremony with like-minded others can offer. \nThe use of Cacao (the sacred and traditional medicine of love) and the powerful healing vibrations of the Sound Bath will also help you connect more deeply to yourself and you’ll leave feeling deeply nurtured\, nourished and more at peace. \n‘‘If we don’t truly learn to love ourselves\, then how can we truly love another’’. Give yourself the gift of love\, and fall in love with the amazing being you are 💓 \nAs with all of our ‘made with love’ events\, the evening will end with gluten free cakes\, hot herbal teas\, and a chance to talk and connect with your sound bath buddies in a candlelit\, snuggly\, ‘adult sleepover’ style fashion 😉💓
URL:https://kundalini-yoga.co.uk/event/full-moon-celebration-slow-flow-yoga-nidra-and-sound-bath/
LOCATION:Charlotte Pratt Memorial Hall\, Chavey Down Rd\, Bracknell\, Berkshire\, RG42 7NY\, United Kingdom
ATTACH;FMTTYPE=image/png:https://kundalini-yoga.co.uk/wp-content/uploads/2022/02/EVENTBRITE-16-X-8-cm-2-1-×-8-cm-21-×-10-cm.png
END:VEVENT
BEGIN:VEVENT
DTSTART;TZID=Europe/London:20220116T190000
DTEND;TZID=Europe/London:20220116T213000
DTSTAMP:20260420T040052
CREATED:20211219T193206Z
LAST-MODIFIED:20211219T215108Z
UID:2848-1642359600-1642368600@kundalini-yoga.co.uk
SUMMARY:Full Moon Kundalini Yoga\, Cacao & Sound Bath
DESCRIPTION:Our next event falls on the Full Moon in Cancer\, on Sunday January 16th and we have a brand new evening of bliss for you. In this New Year gathering\, we will be weaving our highly popular Ceremonial Cacao & Sound Bath (With Gong and Tibetan Singing Bowls)\, with a gentle yet powerful Kundalini Yoga practice to start off the New Year on a blissful high. \nFull Moons are typically a time to be letting go of things that no longer serve you\, whether that is a belief\, habit\, relationship\, career\, or clutter (mental\, emotional or physical). Our bliss inducing Cacao and Sound bath will have you soothed and nourished into a place of deep healing\, whilst our short 20min Kundalini practice will help to detoxify all that winter and holiday season indulgence and stagnancy. You do not have to have any experience on Yoga or Kundalini Yoga to enjoy this portion of the evening. \nKundalini Yoga\, is a powerful ancient Indian practice designed to awaken higher levels of consciousness\, build self-mastery and harmonise mind\, body and spirit. You do not need to be flexible\, as most of the class is focussed on life enhancing pranayama (breath work) and small but intense movements called Kriya which can be done by anyone no matter age or ability. Through this breath-work\, specific movements\, and timing\, the practice of Kundalini Yoga works to increase the nervous system on a cellular level and increase your energetic and spiritual awareness.
URL:https://kundalini-yoga.co.uk/event/full-moon-kundalini-yoga-cacao-sound-bath/
LOCATION:Charlotte Pratt Memorial Hall\, Chavey Down Rd\, Bracknell\, Berkshire\, RG42 7NY\, United Kingdom
ATTACH;FMTTYPE=image/png:https://kundalini-yoga.co.uk/wp-content/uploads/2021/12/Untitled-825-x-549-mm-3.png
END:VEVENT
BEGIN:VEVENT
DTSTART;TZID=UTC:20211204T190000
DTEND;TZID=UTC:20211204T213000
DTSTAMP:20260420T040052
CREATED:20211219T222912Z
LAST-MODIFIED:20211219T222912Z
UID:2894-1638644400-1638653400@kundalini-yoga.co.uk
SUMMARY:New Moon Intention Setting Cacao & Sound Bath
DESCRIPTION:In this next event we will be offering a similar type of evening to our Lunar Eclipse Full Moon ceremony held on 19th November\, although the focus will be on intention setting to harness the New Moon energy therefore it will have its own unique magic. \nI have been STRONGLY called to offer this now\, despite the fact that logically it is only 2x weeks away and we have only just had our full moon event due to the total ‘Solar Eclipse’ falling on the exact day of the New Moon and the powerful energies that this brings with it. I always work with what I am ‘called’ to do\, the reasoning of which is often only truly apparent later\, trusting the universe is my ethos (though its not always the easy first choice lol) \nPowerful dates such as these are fantastic opportunities to raise the collective consciousness via the vibration on the planet\, and that is why I feel such a strong pull to harness this energy. When groups of like minded souls with intentions for good get together\, the power of intent increases monumentally and becomes an important offset against those with more ‘service to self’ intentions. This is the last solar eclipse until Oct 22. \nSo what do we have in store for you? Here are some of the things we will lovingly be including in your New Moon Ceremony: \n💞 Powerful and thought provoking questions to journal\, helping you to work out what is most important to you\, then creating your Intentions from the information that emerges \n💞 Partaking of our bliss inducing Ceremonial Cacao\, some of you now understand how VERY different it is to anything you’ve had before
URL:https://kundalini-yoga.co.uk/event/new-moon-intention-setting-cacao-sound-bath/
LOCATION:Charlotte Pratt Memorial Hall\, Chavey Down Rd\, Bracknell\, Berkshire\, RG42 7NY\, United Kingdom
ATTACH;FMTTYPE=image/jpeg:https://kundalini-yoga.co.uk/wp-content/uploads/2021/11/Untitled-design-2021-11-09T173825.085.jpg
END:VEVENT
END:VCALENDAR